BEGIN:VCALENDAR
VERSION:2.0
PRODID:-//Veer Brar Logistics - ECPv6.0.1.1//NONSGML v1.0//EN
CALSCALE:GREGORIAN
METHOD:PUBLISH
X-WR-CALNAME:Veer Brar Logistics
X-ORIGINAL-URL:https://veerbrarlogistics.com
X-WR-CALDESC:Events for Veer Brar Logistics
REFRESH-INTERVAL;VALUE=DURATION:PT1H
X-Robots-Tag:noindex
X-PUBLISHED-TTL:PT1H
BEGIN:VTIMEZONE
TZID:UTC
BEGIN:STANDARD
TZOFFSETFROM:+0000
TZOFFSETTO:+0000
TZNAME:UTC
DTSTART:20230101T000000
END:STANDARD
END:VTIMEZONE
BEGIN:VEVENT
DTSTART;TZID=UTC:20230817T080000
DTEND;TZID=UTC:20240817T090000
DTSTAMP:20260422T224736
CREATED:20140221T143656Z
LAST-MODIFIED:20140221T143656Z
UID:8179-1692259200-1723885200@veerbrarlogistics.com
SUMMARY:Breakbulk Americas 2017 in Houston
DESCRIPTION:Event description\n\n	\n	\n	\n\n\n	\n		\n	Engineers prefer to see difficulties as challenges or opportunities – they appear to be solving problems\, but they’re actually creating solutions: an altogether more imaginative activity. \nIn exploring how technical solutions are created\, this module combines the mechanics of solids and fluids with the structure and properties of materials. It includes aspects of engineering analysis\, design\, and modelling methods\, using appropriate mathematical software. \n\n	\n\n	\n\n			\n	\n	\n	\n		\n	\n	\n	Programme structure\n\n	\n	\n	\n\n\n	\n		\n	The module is based around six themes: the nature of problems\, static structures\, dynamics\, energy\, endurance and human factors. Study is arranged in six blocks\, one for each theme. \nThe opening block develops a view of engineering problems as challenges and opportunities for technical people. The creation of solutions calls for a clear analysis of what is to be done and an appreciation of how to establish an understanding of the task in hand. It is important to be able to identify how and where to find the necessary knowledge and skills.
URL:https://veerbrarlogistics.com/classes/breakbulk-americas-houston/
LOCATION:New York Ardesia Bar\, Lexington Avenue\, New York\, NY\, 10022\, United States
CATEGORIES:Automotive,Chemicals,Land Transport
ATTACH;FMTTYPE=image/jpeg:https://veerbrarlogistics.com/wp-content/uploads/2013/04/large.jpg
ORGANIZER;CN="Michael%20%26%20Ashley":MAILTO:junk@vamtam.com
END:VEVENT
BEGIN:VEVENT
DTSTART;TZID=UTC:20230817T080000
DTEND;TZID=UTC:20240817T090000
DTSTAMP:20260422T224736
CREATED:20140221T143656Z
LAST-MODIFIED:20140221T143656Z
UID:408246-1692259200-1723885200@veerbrarlogistics.com
SUMMARY:Breakbulk Americas 2017 in Houston
DESCRIPTION:Event description\n\n	\n	\n	\n\n\n	\n		\n	Engineers prefer to see difficulties as challenges or opportunities – they appear to be solving problems\, but they’re actually creating solutions: an altogether more imaginative activity. \nIn exploring how technical solutions are created\, this module combines the mechanics of solids and fluids with the structure and properties of materials. It includes aspects of engineering analysis\, design\, and modelling methods\, using appropriate mathematical software. \n\n	\n\n	\n\n			\n	\n	\n	\n		\n	\n	\n	Programme structure\n\n	\n	\n	\n\n\n	\n		\n	The module is based around six themes: the nature of problems\, static structures\, dynamics\, energy\, endurance and human factors. Study is arranged in six blocks\, one for each theme. \nThe opening block develops a view of engineering problems as challenges and opportunities for technical people. The creation of solutions calls for a clear analysis of what is to be done and an appreciation of how to establish an understanding of the task in hand. It is important to be able to identify how and where to find the necessary knowledge and skills.
URL:https://veerbrarlogistics.com/classes/breakbulk-americas-houston-2/
LOCATION:New York Ardesia Bar\, Lexington Avenue\, New York\, NY\, 10022\, United States
CATEGORIES:Automotive,Chemicals,Land Transport
ATTACH;FMTTYPE=image/jpeg:https://veerbrarlogistics.com/wp-content/uploads/2013/04/large.jpg
ORGANIZER;CN="Michael%20%26%20Ashley":MAILTO:junk@vamtam.com
END:VEVENT
BEGIN:VEVENT
DTSTART;TZID=UTC:20230828T080000
DTEND;TZID=UTC:20240828T170000
DTSTAMP:20260422T224736
CREATED:20140619T132016Z
LAST-MODIFIED:20140619T132016Z
UID:9209-1693209600-1724864400@veerbrarlogistics.com
SUMMARY:Breakbulk Europe 2018 in Bremen
DESCRIPTION:Event description\n\n	\n	\n	\n\n\n	\n		\n	Engineers prefer to see difficulties as challenges or opportunities – they appear to be solving problems\, but they’re actually creating solutions: an altogether more imaginative activity. \nIn exploring how technical solutions are created\, this module combines the mechanics of solids and fluids with the structure and properties of materials. It includes aspects of engineering analysis\, design\, and modelling methods\, using appropriate mathematical software. \n\n	\n\n	\n\n			\n	\n	\n	\n		\n	\n	\n	Programme structure\n\n	\n	\n	\n\n\n	\n		\n	The module is based around six themes: the nature of problems\, static structures\, dynamics\, energy\, endurance and human factors. Study is arranged in six blocks\, one for each theme. \nThe opening block develops a view of engineering problems as challenges and opportunities for technical people. The creation of solutions calls for a clear analysis of what is to be done and an appreciation of how to establish an understanding of the task in hand. It is important to be able to identify how and where to find the necessary knowledge and skills.
URL:https://veerbrarlogistics.com/classes/breakbulk-europe-2018/
LOCATION:New York Ardesia Bar\, Lexington Avenue\, New York\, NY\, 10022\, United States
CATEGORIES:Automotive,Chemicals,Groupage,Management
ATTACH;FMTTYPE=image/jpeg:https://veerbrarlogistics.com/wp-content/uploads/2013/04/large.jpg
ORGANIZER;CN="Michael":MAILTO:junk@vamtam.com
END:VEVENT
BEGIN:VEVENT
DTSTART;TZID=UTC:20230828T080000
DTEND;TZID=UTC:20240828T170000
DTSTAMP:20260422T224736
CREATED:20140619T132016Z
LAST-MODIFIED:20140619T132016Z
UID:408249-1693209600-1724864400@veerbrarlogistics.com
SUMMARY:Breakbulk Europe 2018 in Bremen
DESCRIPTION:Event description\n\n	\n	\n	\n\n\n	\n		\n	Engineers prefer to see difficulties as challenges or opportunities – they appear to be solving problems\, but they’re actually creating solutions: an altogether more imaginative activity. \nIn exploring how technical solutions are created\, this module combines the mechanics of solids and fluids with the structure and properties of materials. It includes aspects of engineering analysis\, design\, and modelling methods\, using appropriate mathematical software. \n\n	\n\n	\n\n			\n	\n	\n	\n		\n	\n	\n	Programme structure\n\n	\n	\n	\n\n\n	\n		\n	The module is based around six themes: the nature of problems\, static structures\, dynamics\, energy\, endurance and human factors. Study is arranged in six blocks\, one for each theme. \nThe opening block develops a view of engineering problems as challenges and opportunities for technical people. The creation of solutions calls for a clear analysis of what is to be done and an appreciation of how to establish an understanding of the task in hand. It is important to be able to identify how and where to find the necessary knowledge and skills.
URL:https://veerbrarlogistics.com/classes/breakbulk-europe-2018-2/
LOCATION:New York Ardesia Bar\, Lexington Avenue\, New York\, NY\, 10022\, United States
CATEGORIES:Automotive,Chemicals,Groupage,Management
ATTACH;FMTTYPE=image/jpeg:https://veerbrarlogistics.com/wp-content/uploads/2013/04/large.jpg
ORGANIZER;CN="Michael":MAILTO:junk@vamtam.com
END:VEVENT
BEGIN:VEVENT
DTSTART;TZID=UTC:20231014T070000
DTEND;TZID=UTC:20241012T110000
DTSTAMP:20260422T224736
CREATED:20140105T003401Z
LAST-MODIFIED:20140105T003401Z
UID:408253-1697266800-1728730800@veerbrarlogistics.com
SUMMARY:18th TPM Annual Conference in Long Beach
DESCRIPTION:Event description\n\n	\n	\n	\n\n\n	\n		\n	Engineers prefer to see difficulties as challenges or opportunities – they appear to be solving problems\, but they’re actually creating solutions: an altogether more imaginative activity. \nIn exploring how technical solutions are created\, this module combines the mechanics of solids and fluids with the structure and properties of materials. It includes aspects of engineering analysis\, design\, and modelling methods\, using appropriate mathematical software. \n\n	\n\n	\n\n			\n	\n	\n	\n		\n	\n	\n	Programme structure\n\n	\n	\n	\n\n\n	\n		\n	The module is based around six themes: the nature of problems\, static structures\, dynamics\, energy\, endurance and human factors. Study is arranged in six blocks\, one for each theme. \nThe opening block develops a view of engineering problems as challenges and opportunities for technical people. The creation of solutions calls for a clear analysis of what is to be done and an appreciation of how to establish an understanding of the task in hand. It is important to be able to identify how and where to find the necessary knowledge and skills.
URL:https://veerbrarlogistics.com/classes/annual-conference-long-beach-2/
LOCATION:New York Ardesia Bar\, Lexington Avenue\, New York\, NY\, 10022\, United States
CATEGORIES:Automotive,Chemicals,Groupage
ATTACH;FMTTYPE=image/jpeg:https://veerbrarlogistics.com/wp-content/uploads/2013/04/large.jpg
ORGANIZER;CN="Michael":MAILTO:junk@vamtam.com
END:VEVENT
BEGIN:VEVENT
DTSTART;TZID=UTC:20231014T070000
DTEND;TZID=UTC:20241012T110000
DTSTAMP:20260422T224737
CREATED:20140105T003401Z
LAST-MODIFIED:20140105T003401Z
UID:9293-1697266800-1728730800@veerbrarlogistics.com
SUMMARY:18th TPM Annual Conference in Long Beach
DESCRIPTION:Event description\n\n	\n	\n	\n\n\n	\n		\n	Engineers prefer to see difficulties as challenges or opportunities – they appear to be solving problems\, but they’re actually creating solutions: an altogether more imaginative activity. \nIn exploring how technical solutions are created\, this module combines the mechanics of solids and fluids with the structure and properties of materials. It includes aspects of engineering analysis\, design\, and modelling methods\, using appropriate mathematical software. \n\n	\n\n	\n\n			\n	\n	\n	\n		\n	\n	\n	Programme structure\n\n	\n	\n	\n\n\n	\n		\n	The module is based around six themes: the nature of problems\, static structures\, dynamics\, energy\, endurance and human factors. Study is arranged in six blocks\, one for each theme. \nThe opening block develops a view of engineering problems as challenges and opportunities for technical people. The creation of solutions calls for a clear analysis of what is to be done and an appreciation of how to establish an understanding of the task in hand. It is important to be able to identify how and where to find the necessary knowledge and skills.
URL:https://veerbrarlogistics.com/classes/annual-conference-long-beach/
LOCATION:New York Ardesia Bar\, Lexington Avenue\, New York\, NY\, 10022\, United States
CATEGORIES:Automotive,Chemicals,Groupage
ATTACH;FMTTYPE=image/jpeg:https://veerbrarlogistics.com/wp-content/uploads/2013/04/large.jpg
ORGANIZER;CN="Michael":MAILTO:junk@vamtam.com
END:VEVENT
END:VCALENDAR